BEGIN:VCALENDAR
VERSION:2.0
PRODID:-//Virginia Sutera - ECPv4.9.13//NONSGML v1.0//EN
CALSCALE:GREGORIAN
METHOD:PUBLISH
X-WR-CALNAME:Virginia Sutera
X-ORIGINAL-URL:https://virginiasutera.com
X-WR-CALDESC:Eventi per Virginia Sutera
BEGIN:VTIMEZONE
TZID:Europe/Rome
BEGIN:DAYLIGHT
TZOFFSETFROM:+0100
TZOFFSETTO:+0200
TZNAME:CEST
DTSTART:20190331T010000
END:DAYLIGHT
BEGIN:STANDARD
TZOFFSETFROM:+0200
TZOFFSETTO:+0100
TZNAME:CET
DTSTART:20191027T010000
END:STANDARD
END:VTIMEZONE
BEGIN:VEVENT
DTSTART;TZID=Europe/Rome:20190907T080000
DTEND;TZID=Europe/Rome:20190907T170000
DTSTAMP:20260423T184348
CREATED:20190829T121941Z
LAST-MODIFIED:20190829T121941Z
UID:734-1567843200-1567875600@virginiasutera.com
SUMMARY:Anser  - Violin and Piano in Improvisation and composition
DESCRIPTION:ANSER\nVirginia Sutera: violin\nAlberto Braida: piano\nImprovisation and composition: two disciplines which meeting together create the duo music  \n
URL:https://virginiasutera.com/index.php/event/anser-violin-and-piano-in-improvisation-and-composition/
ATTACH;FMTTYPE=image/jpeg:https://virginiasutera.com/wp-content/uploads/2019/08/anser.jpg
END:VEVENT
END:VCALENDAR