BEGIN:VCALENDAR
VERSION:2.0
PRODID:-//Virginia Sutera - ECPv4.9.13//NONSGML v1.0//EN
CALSCALE:GREGORIAN
METHOD:PUBLISH
X-WR-CALNAME:Virginia Sutera
X-ORIGINAL-URL:https://virginiasutera.com
X-WR-CALDESC:Eventi per Virginia Sutera
BEGIN:VTIMEZONE
TZID:Europe/Rome
BEGIN:DAYLIGHT
TZOFFSETFROM:+0100
TZOFFSETTO:+0200
TZNAME:CEST
DTSTART:20180325T010000
END:DAYLIGHT
BEGIN:STANDARD
TZOFFSETFROM:+0200
TZOFFSETTO:+0100
TZNAME:CET
DTSTART:20181028T010000
END:STANDARD
END:VTIMEZONE
BEGIN:VEVENT
DTSTART;TZID=Europe/Rome:20181025T210000
DTEND;TZID=Europe/Rome:20181025T223000
DTSTAMP:20260424T002843
CREATED:20181008T164343Z
LAST-MODIFIED:20181008T164343Z
UID:357-1540501200-1540506600@virginiasutera.com
SUMMARY:DUO Sutera Novali @Casetta degli Angeli Mozzo per Obiettivo Musica 2018
DESCRIPTION:Virginia Sutera\, violino\nErmanno Novali\, pianoforte \n
URL:https://virginiasutera.com/index.php/event/duo-sutera-novali-casetta-degli-angeli-mozzo-per-obiettivo-musica-2018/
LOCATION:casetta degli angeli\, Via S.Stefano\, Mozzo\, Italia
END:VEVENT
END:VCALENDAR