BEGIN:VCALENDAR
VERSION:2.0
PRODID:-//Virginia Sutera - ECPv4.9.13//NONSGML v1.0//EN
CALSCALE:GREGORIAN
METHOD:PUBLISH
X-WR-CALNAME:Virginia Sutera
X-ORIGINAL-URL:https://virginiasutera.com
X-WR-CALDESC:Eventi per Virginia Sutera
BEGIN:VTIMEZONE
TZID:Europe/Rome
BEGIN:DAYLIGHT
TZOFFSETFROM:+0100
TZOFFSETTO:+0200
TZNAME:CEST
DTSTART:20180325T010000
END:DAYLIGHT
BEGIN:STANDARD
TZOFFSETFROM:+0200
TZOFFSETTO:+0100
TZNAME:CET
DTSTART:20181028T010000
END:STANDARD
END:VTIMEZONE
BEGIN:VEVENT
DTSTART;TZID=Europe/Rome:20181103T173000
DTEND;TZID=Europe/Rome:20181103T190000
DTSTAMP:20260423T225900
CREATED:20181027T210655Z
LAST-MODIFIED:20181027T211112Z
UID:382-1541266200-1541271600@virginiasutera.com
SUMMARY:Duo Sutera Novali - House Concert Milano
DESCRIPTION:
URL:https://virginiasutera.com/index.php/event/duo-sutera-novali-house-concert/
LOCATION:Milano
END:VEVENT
END:VCALENDAR