BEGIN:VCALENDAR
VERSION:2.0
PRODID:-//Virginia Sutera - ECPv4.9.13//NONSGML v1.0//EN
CALSCALE:GREGORIAN
METHOD:PUBLISH
X-WR-CALNAME:Virginia Sutera
X-ORIGINAL-URL:https://virginiasutera.com
X-WR-CALDESC:Eventi per Virginia Sutera
BEGIN:VTIMEZONE
TZID:Europe/Rome
BEGIN:DAYLIGHT
TZOFFSETFROM:+0100
TZOFFSETTO:+0200
TZNAME:CEST
DTSTART:20180325T010000
END:DAYLIGHT
BEGIN:STANDARD
TZOFFSETFROM:+0200
TZOFFSETTO:+0100
TZNAME:CET
DTSTART:20181028T010000
END:STANDARD
END:VTIMEZONE
BEGIN:VEVENT
DTSTART;TZID=Europe/Rome:20181206T200000
DTEND;TZID=Europe/Rome:20181206T213000
DTSTAMP:20260423T230536
CREATED:20181017T144844Z
LAST-MODIFIED:20181027T210748Z
UID:371-1544126400-1544131800@virginiasutera.com
SUMMARY:Duo Sutera Novali - Evento Privato
DESCRIPTION:
URL:https://virginiasutera.com/index.php/event/evento-privato/
END:VEVENT
END:VCALENDAR