BEGIN:VCALENDAR
VERSION:2.0
PRODID:-//Virginia Sutera - ECPv4.9.13//NONSGML v1.0//EN
CALSCALE:GREGORIAN
METHOD:PUBLISH
X-WR-CALNAME:Virginia Sutera
X-ORIGINAL-URL:https://virginiasutera.com
X-WR-CALDESC:Eventi per Virginia Sutera
BEGIN:VTIMEZONE
TZID:Europe/Rome
BEGIN:DAYLIGHT
TZOFFSETFROM:+0100
TZOFFSETTO:+0200
TZNAME:CEST
DTSTART:20190331T010000
END:DAYLIGHT
BEGIN:STANDARD
TZOFFSETFROM:+0200
TZOFFSETTO:+0100
TZNAME:CET
DTSTART:20191027T010000
END:STANDARD
END:VTIMEZONE
BEGIN:VEVENT
DTSTART;TZID=Europe/Rome:20190904T150000
DTEND;TZID=Europe/Rome:20190905T200000
DTSTAMP:20260423T201210
CREATED:20190828T111130Z
LAST-MODIFIED:20190829T094146Z
UID:538-1567609200-1567713600@virginiasutera.com
SUMMARY:Workshop de Mùsica Orquestral - Portogallo [ANSER]
DESCRIPTION:The Workshop will be coordinate by ANSER\nVirginia Sutera: violin\nAlberto Braida: piano\nImprovisation and composition: two disciplines which meeting together create the duo music  \nWe propose a two-days’ workshop on musical reading and improvisation. Participants will be guided to experience the creation of a whole composition in orchestral. The original composition will be based on the study of simple rhythmic patterns and thematic clusters\, from which the group of musicians will take inspiration and move towards interspaces of guided and open improvisations. \n
URL:https://virginiasutera.com/index.php/event/portugal-residency/
LOCATION:Soul Farm Algarve
ATTACH;FMTTYPE=image/jpeg:https://virginiasutera.com/wp-content/uploads/2019/08/Workshop.jpg
ORGANIZER;CN="Soul%20Farm%20Algarve":MAILTO:info@soulfarmalgarve.com
END:VEVENT
END:VCALENDAR