BEGIN:VCALENDAR
VERSION:2.0
PRODID:-//Virginia Sutera - ECPv4.9.13//NONSGML v1.0//EN
CALSCALE:GREGORIAN
METHOD:PUBLISH
X-WR-CALNAME:Virginia Sutera
X-ORIGINAL-URL:https://virginiasutera.com
X-WR-CALDESC:Eventi per Virginia Sutera
BEGIN:VTIMEZONE
TZID:Europe/Rome
BEGIN:DAYLIGHT
TZOFFSETFROM:+0100
TZOFFSETTO:+0200
TZNAME:CEST
DTSTART:20190331T010000
END:DAYLIGHT
BEGIN:STANDARD
TZOFFSETFROM:+0200
TZOFFSETTO:+0100
TZNAME:CET
DTSTART:20191027T010000
END:STANDARD
END:VTIMEZONE
BEGIN:VEVENT
DTSTART;TZID=Europe/Rome:20190412T210000
DTEND;TZID=Europe/Rome:20190412T220000
DTSTAMP:20260423T215235
CREATED:20190918T155718Z
LAST-MODIFIED:20190918T155718Z
UID:740-1555102800-1555106400@virginiasutera.com
SUMMARY:Società del Quartetto - Duo Sutera Novali
DESCRIPTION:
URL:https://virginiasutera.com/index.php/event/societa-del-quartetto-duo-sutera-novali/
LOCATION:sala piatti\, Bergamo
END:VEVENT
END:VCALENDAR